Workbook

Sheet IN - All Programs
A1: Indiana MPO-Dedicated Funding Programs
A3: Updated as of 11.6.26
A4: PROJECT INFORMATION | G4: FY 2017 | J4: FY 2018 | M4: FY 2019 | P4: FY 2020 | S4: FY 2021 | V4: FY 2022 | Y4: FY 2023 | AB4: FY 2024 | AE4: FY 2025 | AH4: FY 2026 | AK4: FY 2027 | AN4: FY 2028 | AQ4: FY 2029 | AT4: FY 2030 | AW4: FY 2031 | AZ4: FY 2032 | BC4: FUTURE
A5: PROJECT | B5: KIPDA ID | C5: DES Number | D5: DESCRIPTION | E5: SPONSOR | F5: PHASE | G5: FEDERAL COST | H5: FEDERAL PGM | I5: FEDERAL OBL. | J5: FEDERAL COST | K5: FEDERAL PGM | L5: FEDERAL OBL. | M5: FEDERAL COST | N5: FEDERAL PGM | O5: FEDERAL OBL. | P5: FEDERAL COST | Q5: FEDERAL PGM | R5: FEDERAL OBL. | S5: FEDERAL COST | T5: FEDERAL PGM | U5: FEDERAL OBL. | V5: FEDERAL COST | W5: FEDERAL PGM | X5: FEDERAL OBL. | Y5: FEDERAL COST | Z5: FEDERAL PGM | AA5: FEDERAL OBL. | AB5: FEDERAL COST | AC5: FEDERAL PGM | AD5: FEDERAL OBL. | AE5: FEDERAL COST | AF5: FEDERAL PGM | AG5: FEDERAL OBL. | AH5: FEDERAL COST | AI5: FEDERAL PGM | AJ5: FEDERAL OBL. | AK5: FEDERAL COST | AL5: FEDERAL PGM | AM5: FEDERAL OBL. | AN5: FEDERAL COST | AO5: FEDERAL PGM | AP5: FEDERAL OBL. | AQ5: FEDERAL COST | AR5: FEDERAL PGM | AS5: FEDERAL OBL. | AT5: FEDERAL COST | AU5: FEDERAL PGM | AV5: FEDERAL OBL. | AW5: FEDERAL COST | AX5: FEDERAL PGM | AY5: FEDERAL OBL. | AZ5: FEDERAL COST | BA5: FEDERAL PGM | BB5: FEDERAL OBL. | BC5: FEDERAL COST | BD5: TOTALS
A7: Kentuckiana Air Education | B7: 370 | C7: 2300016 | D7: KAIRE Ozone Prevention and Awareness Program | E7: APCD | F7: Planning | H7: =G7-I7 -> 0 | K7: =J7-L7 -> 0 | N7: =M7-O7 -> 0 | Q7: =P7-R7 -> 0 | T7: =S7-U7 -> 0 | W7: =V7-X7 -> 0 | Z7: =Y7-AA7 -> 0 | AC7: =AB7-AD7 -> 0 | AF7: =AE7-AG7 -> 0 | AI7: =AH7-AJ7 -> 0 | AL7: =AK7-AM7 -> 0 | AO7: =AN7-AP7 -> 0 | AR7: =AQ7-AS7 -> 0 | AU7: =AT7-AV7 -> 0 | AX7: =AW7-AY7 -> 0 | BA7: =AZ7-BB7 -> 0 | BD7: FED COST
F8: Preliminary Eng. | H8: =G8-I8 -> 0 | K8: =J8-L8 -> 0 | N8: =M8-O8 -> 0 | Q8: =P8-R8 -> 0 | T8: =S8-U8 -> 0 | W8: =V8-X8 -> 0 | Z8: =Y8-AA8 -> 0 | AC8: =AB8-AD8 -> 0 | AF8: =AE8-AG8 -> 0 | AI8: =AH8-AJ8 -> 0 | AL8: =AK8-AM8 -> 0 | AO8: =AN8-AP8 -> 0 | AR8: =AQ8-AS8 -> 0 | AU8: =AT8-AV8 -> 0 | AX8: =AW8-AY8 -> 0 | BA8: =AZ8-BB8 -> 0 | BD8: =SUM(G7:G16,J7:J16,M7:M16,P7:P16,S7:S16,V7:V16,Y7:Y16,AB7:AB16,AE7:AE16) -> 1800000
F9: Design | H9: =G9-I9 -> 0 | K9: =J9-L9 -> 0 | N9: =M9-O9 -> 0 | Q9: =P9-R9 -> 0 | T9: =S9-U9 -> 0 | W9: =V9-X9 -> 0 | Z9: =Y9-AA9 -> 0 | AC9: =AB9-AD9 -> 0 | AF9: =AE9-AG9 -> 0 | AI9: =AH9-AJ9 -> 0 | AL9: =AK9-AM9 -> 0 | AO9: =AN9-AP9 -> 0 | AR9: =AQ9-AS9 -> 0 | AU9: =AT9-AV9 -> 0 | AX9: =AW9-AY9 -> 0 | BA9: =AZ9-BB9 -> 0 | BD9: FED PGM
F10: Right of Way | H10: =G10-I10 -> 0 | K10: =J10-L10 -> 0 | N10: =M10-O10 -> 0 | Q10: =P10-R10 -> 0 | T10: =S10-U10 -> 0 | W10: =V10-X10 -> 0 | Z10: =Y10-AA10 -> 0 | AC10: =AB10-AD10 -> 0 | AF10: =AE10-AG10 -> 0 | AI10: =AH10-AJ10 -> 0 | AL10: =AK10-AM10 -> 0 | AO10: =AN10-AP10 -> 0 | AR10: =AQ10-AS10 -> 0 | AU10: =AT10-AV10 -> 0 | AX10: =AW10-AY10 -> 0 | BA10: =AZ10-BB10 -> 0 | BD10: =SUM(H7:H16,K7:K16,N7:N16,Q7:Q16,T7:T16,W7:W16,Z7:Z16,AC7:AC16,Z7:Z16,AF7:AF16) -> 7029
F11: Utility Relocation | H11: =G11-I11 -> 0 | K11: =J11-L11 -> 0 | N11: =M11-O11 -> 0 | Q11: =P11-R11 -> 0 | T11: =S11-U11 -> 0 | W11: =V11-X11 -> 0 | Z11: =Y11-AA11 -> 0 | AC11: =AB11-AD11 -> 0 | AF11: =AE11-AG11 -> 0 | AI11: =AH11-AJ11 -> 0 | AL11: =AK11-AM11 -> 0 | AO11: =AN11-AP11 -> 0 | AR11: =AQ11-AS11 -> 0 | AU11: =AT11-AV11 -> 0 | AX11: =AW11-AY11 -> 0 | BA11: =AZ11-BB11 -> 0 | BD11: FED OBL
F12: Construction Engineering
F13: Construction | H13: =G13-I13 -> 0 | K13: =J13-L13 -> 0 | N13: =M13-O13 -> 0 | Q13: =P13-R13 -> 0 | T13: =S13-U13 -> 0 | W13: =V13-X13 -> 0 | Z13: =Y13-AA13 -> 0 | AC13: =AB13-AD13 -> 0 | AF13: =AE13-AG13 -> 0 | AI13: =AH13-AJ13 -> 0 | AL13: =AK13-AM13 -> 0 | AO13: =AN13-AP13 -> 0 | AR13: =AQ13-AS13 -> 0 | AU13: =AT13-AV13 -> 0 | AX13: =AW13-AY13 -> 0 | BA13: =AZ13-BB13 -> 0 | BD13: =SUM(I7:I16,L7:L16,O7:O16,R7:R16,U7:U16,X7:X16,AA7:AA16,AD7:AD16,AG7:AG16) -> 1792971
F14: Program | G14: 200000 | H14: =G14-I14 -> 0 | I14: 200000 | J14: 200000 | K14: =J14-L14 -> 0 | L14: 200000 | M14: 200000 | N14: =M14-O14 -> 0 | O14: 200000 | P14: 200000 | Q14: =P14-R14 -> 0 | R14: 200000 | S14: 200000 | T14: =S14-U14 -> 0 | U14: 200000 | V14: 200000 | W14: =V14-X14 -> 0 | X14: 200000 | Y14: 200000 | Z14: =Y14-AA14 -> 0 | AA14: 200000 | AB14: 200000 | AC14: =AB14-AD14 -> 7029 | AD14: 192971 | AE14: 200000 | AF14: =AE14-AG14 -> 0 | AG14: 200000 | AH14: 200000 | AI14: =AH14-AJ14 -> 0 | AJ14: 200000 | AK14: 200000 | AL14: =AK14-AM14 -> 0 | AM14: 200000 | AN14: 200000 | AO14: =AN14-AP14 -> 200000 | AQ14: 200000 | AR14: =AQ14-AS14 -> 200000 | AT14: 200000 | AU14: =AT14-AV14 -> 200000 | AX14: =AW14-AY14 -> 0 | BA14: =AZ14-BB14 -> 0 | BD14: % OBL
F15: Capital | H15: =G15-I15 -> 0 | K15: =J15-L15 -> 0 | N15: =M15-O15 -> 0 | Q15: =P15-R15 -> 0 | T15: =S15-U15 -> 0 | W15: =V15-X15 -> 0 | Z15: =Y15-AA15 -> 0 | AC15: =AB15-AD15 -> 0 | AF15: =AE15-AG15 -> 0 | AI15: =AH15-AJ15 -> 0 | AL15: =AK15-AM15 -> 0 | AO15: =AN15-AP15 -> 0 | AR15: =AQ15-AS15 -> 0 | AU15: =AT15-AV15 -> 0 | AX15: =AW15-AY15 -> 0 | BA15: =AZ15-BB15 -> 0 | BD15: =BD13/BD8 -> 0.996095
F16: Operating | H16: =G16-I16 -> 0 | K16: =J16-L16 -> 0 | N16: =M16-O16 -> 0 | Q16: =P16-R16 -> 0 | T16: =S16-U16 -> 0 | W16: =V16-X16 -> 0 | Z16: =Y16-AA16 -> 0 | AC16: =AB16-AD16 -> 0 | AF16: =AE16-AG16 -> 0 | AI16: =AH16-AJ16 -> 0 | AL16: =AK16-AM16 -> 0 | AO16: =AN16-AP16 -> 0 | AR16: =AQ16-AS16 -> 0 | AU16: =AT16-AV16 -> 0 | AX16: =AW16-AY16 -> 0 | BA16: =AZ16-BB16 -> 0
A17: PROJECT | B17: KIPDA ID | C17: DES Number | D17: DESCRIPTION | E17: SPONSOR | F17: PHASE | G17: FEDERAL COST | H17: FEDERAL PGM | I17: FEDERAL OBL. | J17: FEDERAL COST | K17: FEDERAL PGM | L17: FEDERAL OBL. | M17: FEDERAL COST | N17: FEDERAL PGM | O17: FEDERAL OBL. | P17: FEDERAL COST | Q17: FEDERAL PGM | R17: FEDERAL OBL. | S17: FEDERAL COST | T17: FEDERAL PGM | U17: FEDERAL OBL. | V17: FEDERAL COST | W17: FEDERAL PGM | X17: FEDERAL OBL. | Y17: FEDERAL COST | Z17: FEDERAL PGM | AA17: FEDERAL OBL. | AB17: FEDERAL COST | AC17: FEDERAL PGM | AD17: FEDERAL OBL. | AE17: FEDERAL COST | AF17: FEDERAL PGM | AG17: FEDERAL OBL. | AH17: FEDERAL COST | AI17: FEDERAL PGM | AJ17: FEDERAL OBL. | AK17: FEDERAL COST | AL17: FEDERAL PGM | AM17: FEDERAL OBL. | AN17: FEDERAL COST | AO17: FEDERAL PGM | AP17: FEDERAL OBL. | AQ17: FEDERAL COST | AR17: FEDERAL PGM | AS17: FEDERAL OBL. | AT17: FEDERAL COST | AU17: FEDERAL PGM | AV17: FEDERAL OBL. | AW17: FEDERAL COST | AX17: FEDERAL PGM | AY17: FEDERAL OBL. | AZ17: FEDERAL COST | BA17: FEDERAL PGM | BB17: FEDERAL OBL. | BC17: FEDERAL COST | BD17: TOTALS
A19: CR-311 and Sellersburg Improvements | B19: 3364 | C19: 2401840 | D19: Corridor improvements will extend along CR-311 from SR-60 to US-31 in Sellersburg. Project will add sidewalks, a bike path and a center turn lane to provide safe traffic/transportation alternatives and improve overall safety in the area | E19: Clark County | F19: Planning | H19: =G19-I19 -> 0 | K19: =J19-L19 -> 0 | N19: =M19-O19 -> 0 | Q19: =P19-R19 -> 0 | T19: =S19-U19 -> 0 | W19: =V19-X19 -> 0 | Z19: =Y19-AA19 -> 0 | AC19: =AB19-AD19 -> 0 | AF19: =AE19-AG19 -> 0 | AI19: =AH19-AJ19 -> 0 | AL19: =AK19-AM19 -> 0 | AO19: =AN19-AP19 -> 0 | AR19: =AQ19-AS19 -> 0 | AU19: =AT19-AV19 -> 0 | AX19: =AW19-AY19 -> 0 | BA19: =AZ19-BB19 -> 0 | BD19: FED COST
F20: Preliminary Eng. | H20: =G20-I20 -> 0 | K20: =J20-L20 -> 0 | N20: =M20-O20 -> 0 | Q20: =P20-R20 -> 0 | T20: =S20-U20 -> 0 | W20: =V20-X20 -> 0 | Z20: =Y20-AA20 -> 0 | AC20: =AB20-AD20 -> 0 | AF20: =AE20-AG20 -> 0 | AH20: =142733+50341 -> 193074 | AI20: =AH20-AJ20 -> 0 | AJ20: =142733+50341 -> 193074 | AK20: 786301 | AL20: =AK20-AM20 -> 786301 | AO20: =AN20-AP20 -> 0 | AR20: =AQ20-AS20 -> 0 | AU20: =AT20-AV20 -> 0 | AX20: =AW20-AY20 -> 0 | BA20: =AZ20-BB20 -> 0 | BD20: =SUM(G19:G28,J19:J28,M19:M28,P19:P28,S19:S28,V19:V28,Y19:Y28,AB19:AB28,AE19:AE28) -> 0
F21: Design | H21: =G21-I21 -> 0 | K21: =J21-L21 -> 0 | M21: 0 | N21: =M21-O21 -> 0 | Q21: =P21-R21 -> 0 | T21: =S21-U21 -> 0 | W21: =V21-X21 -> 0 | Z21: =Y21-AA21 -> 0 | AC21: =AB21-AD21 -> 0 | AF21: =AE21-AG21 -> 0 | AI21: =AH21-AJ21 -> 0 | AL21: =AK21-AM21 -> 0 | AO21: =AN21-AP21 -> 0 | AR21: =AQ21-AS21 -> 0 | AU21: =AT21-AV21 -> 0 | AX21: =AW21-AY21 -> 0 | BA21: =AZ21-BB21 -> 0 | BD21: FED PGM
F22: Right of Way | H22: =G22-I22 -> 0 | K22: =J22-L22 -> 0 | N22: =M22-O22 -> 0 | W22: =V22-X22 -> 0 | AC22: =AB22-AD22 -> 0 | AF22: =AE22-AG22 -> 0 | AI22: =AH22-AJ22 -> 0 | AL22: =AK22-AM22 -> 0 | AN22: 500000 | AO22: =AN22-AP22 -> 500000 | AQ22: 500000 | AR22: =AQ22-AS22 -> 500000 | AU22: =AT22-AV22 -> 0 | AX22: =AW22-AY22 -> 0 | BA22: =AZ22-BB22 -> 0 | BD22: =SUM(H19:H28,K19:K28,N19:N28,Q19:Q28,T19:T28,W19:W28,Z19:Z28,AC19:AC28,Z19:Z28,AF19:AF28) -> 0
F23: Utility Relocation | H23: =G23-I23 -> 0 | K23: =J23-L23 -> 0 | N23: =M23-O23 -> 0 | Q23: =P23-R23 -> 0 | T23: =S23-U23 -> 0 | W23: =V23-X23 -> 0 | Z23: =Y23-AA23 -> 0 | AC23: =AB23-AD23 -> 0 | AF23: =AE23-AG23 -> 0 | AI23: =AH22-AJ23 -> 0 | AL23: =AK23-AM23 -> 0 | AO23: =AN23-AP23 -> 0 | AR23: =AQ23-AS23 -> 0 | AT23: 500000 | AU23: =AT23-AV23 -> 500000 | AX23: =AW23-AY23 -> 0 | BA23: =AZ23-BB23 -> 0 | BD23: FED OBL
F24: Construction Engineering | AR24: =AQ24-AS24 -> 0
F25: Construction | H25: =G25-I25 -> 0 | K25: =J25-L25 -> 0 | N25: =M25-O25 -> 0 | Q25: =P25-R25 -> 0 | T25: =S25-U25 -> 0 | W25: =V25-X25 -> 0 | Z25: =Y25-AA25 -> 0 | AC25: =AB25-AD25 -> 0 | AF25: =AE25-AG25 -> 0 | AI25: =AH25-AJ25 -> 0 | AL25: =AK25-AM25 -> 0 | AO25: =AN25-AP25 -> 0 | AR25: =AQ25-AS25 -> 0 | AU25: =AT25-AV25 -> 0 | AX25: =AW25-AY25 -> 0 | BA25: =AZ25-BB25 -> 0 | BD25: =SUM(I19:I28,L19:L28,O19:O28,R19:R28,U19:U28,X19:X28,AA19:AA28,AD19:AD28,AG19:AG28) -> 0
F26: Program | H26: =G26-I26 -> 0 | K26: =J26-L26 -> 0 | N26: =M26-O26 -> 0 | Q26: =P26-R26 -> 0 | T26: =S26-U26 -> 0 | W26: =V26-X26 -> 0 | Z26: =Y26-AA26 -> 0 | AC26: =AB26-AD26 -> 0 | AF26: =AE26-AG26 -> 0 | AI26: =AH26-AJ26 -> 0 | AL26: =AK26-AM26 -> 0 | AO26: =AN26-AP26 -> 0 | AR26: =AQ26-AS26 -> 0 | AU26: =AT26-AV26 -> 0 | AX26: =AW26-AY26 -> 0 | BA26: =AZ26-BB26 -> 0 | BD26: % OBL
F27: Capital | H27: =G27-I27 -> 0 | K27: =J27-L27 -> 0 | N27: =M27-O27 -> 0 | Q27: =P27-R27 -> 0 | T27: =S27-U27 -> 0 | W27: =V27-X27 -> 0 | Z27: =Y27-AA27 -> 0 | AC27: =AB27-AD27 -> 0 | AF27: =AE27-AG27 -> 0 | AI27: =AH27-AJ27 -> 0 | AL27: =AK27-AM27 -> 0 | AO27: =AN27-AP27 -> 0 | AR27: =AQ27-AS27 -> 0 | AU27: =AT27-AV27 -> 0 | AX27: =AW27-AY27 -> 0 | BA27: =AZ27-BB27 -> 0 | BD27: =BD25/BD20 -> #DIV/0!
F28: Operating | H28: =G28-I28 -> 0 | K28: =J28-L28 -> 0 | N28: =M28-O28 -> 0 | Q28: =P28-R28 -> 0 | T28: =S28-U28 -> 0 | W28: =V28-X28 -> 0 | Z28: =Y28-AA28 -> 0 | AC28: =AB28-AD28 -> 0 | AF28: =AE28-AG28 -> 0 | AI28: =AH28-AJ28 -> 0 | AL28: =AK28-AM28 -> 0 | AO28: =AN28-AP28 -> 0 | AR28: =AQ28-AS28 -> 0 | AU28: =AT28-AV28 -> 0 | AX28: =AW28-AY28 -> 0 | BA28: =AZ28-BB28 -> 0
A29: PROJECT | B29: KIPDA ID | C29: DES Number | D29: DESCRIPTION | E29: SPONSOR | F29: PHASE | G29: FEDERAL COST | H29: FEDERAL PGM | I29: FEDERAL OBL. | J29: FEDERAL COST | K29: FEDERAL PGM | L29: FEDERAL OBL. | M29: FEDERAL COST | N29: FEDERAL PGM | O29: FEDERAL OBL. | P29: FEDERAL COST | Q29: FEDERAL PGM | R29: FEDERAL OBL. | S29: FEDERAL COST | T29: FEDERAL PGM | U29: FEDERAL OBL. | V29: FEDERAL COST | W29: FEDERAL PGM | X29: FEDERAL OBL. | Y29: FEDERAL COST | Z29: FEDERAL PGM | AA29: FEDERAL OBL. | AB29: FEDERAL COST | AC29: FEDERAL PGM | AD29: FEDERAL OBL. | AE29: FEDERAL COST | AF29: FEDERAL PGM | AG29: FEDERAL OBL. | AH29: FEDERAL COST | AI29: FEDERAL PGM | AJ29: FEDERAL OBL. | AK29: FEDERAL COST | AL29: FEDERAL PGM | AM29: FEDERAL OBL. | AN29: FEDERAL COST | AO29: FEDERAL PGM | AP29: FEDERAL OBL. | AQ29: FEDERAL COST | AR29: FEDERAL PGM | AS29: FEDERAL OBL. | AT29: FEDERAL COST | AU29: FEDERAL PGM | AV29: FEDERAL OBL. | AW29: FEDERAL COST | AX29: FEDERAL PGM | AY29: FEDERAL OBL. | AZ29: FEDERAL COST | BA29: FEDERAL PGM | BB29: FEDERAL OBL. | BC29: FEDERAL COST | BD29: TOTALS
A31: Charlestown Road Corridor Complete Street - Multi Use Trail | B31: 2128 | C31: 1400550 | D31: Construction of a multi-use path on Charlestown Rd. from Sunset Drive to Chapel Lane and include pedestrian bridge | E31: Floyd County | F31: Planning | H31: =G31-I31 -> 0 | K31: =J31-L31 -> 0 | N31: =M31-O31 -> 0 | Q31: =P31-R31 -> 0 | T31: =S31-U31 -> 0 | W31: =V31-X31 -> 0 | Z31: =Y31-AA31 -> 0 | AC31: =AB31-AD31 -> 0 | AF31: =AE31-AG31 -> 0 | AI31: =AH31-AJ31 -> 0 | AL31: =AK31-AM31 -> 0 | AO31: =AN31-AP31 -> 0 | AR31: =AQ31-AS31 -> 0 | AU31: =AT31-AV31 -> 0 | AX31: =AW31-AY31 -> 0 | BA31: =AZ31-BB31 -> 0 | BD31: FED COST
F32: Preliminary Eng. | H32: =G32-I32 -> 0 | K32: =J32-L32 -> 0 | N32: =M32-O32 -> 0 | Q32: =P32-R32 -> 0 | T32: =S32-U32 -> 0 | W32: =V32-X32 -> 0 | Z32: =Y32-AA32 -> 0 | AC32: =AB32-AD32 -> 0 | AF32: =AE32-AG32 -> 0 | AI32: =AH32-AJ32 -> 0 | AL32: =AK32-AM32 -> 0 | AO32: =AN32-AP32 -> 0 | AR32: =AQ32-AS32 -> 0 | AU32: =AT32-AV32 -> 0 | AX32: =AW32-AY32 -> 0 | BA32: =AZ32-BB32 -> 0 | BD32: =SUM(G31:G40,J31:J40,M31:M40,P31:P40,S31:S40,V31:V40,Y31:Y40,AB31:AB40,AE31:AE40) -> 1099084
F33: Design | H33: =G33-I33 -> 0 | K33: =J33-L33 -> 0 | M33: 0 | N33: =M33-O33 -> 0 | Q33: =P33-R33 -> 0 | T33: =S33-U33 -> 0 | W33: =V33-X33 -> 0 | Z33: =Y33-AA33 -> 0 | AC33: =AB33-AD33 -> 0 | AF33: =AE33-AG33 -> 0 | AI33: =AH33-AJ33 -> 0 | AL33: =AK33-AM33 -> 0 | AO33: =AN33-AP33 -> 0 | AR33: =AQ33-AS33 -> 0 | AU33: =AT33-AV33 -> 0 | AX33: =AW33-AY33 -> 0 | BA33: =AZ33-BB33 -> 0 | BD33: FED PGM
F34: Right of Way | H34: =G34-I34 -> 0 | K34: =J34-L34 -> 0 | N34: =M34-O34 -> 0 | P34: 384147 | Q34: =P34-R34 -> 76830 | R34: 307317 | S34: 300000 | T34: =S34-U34 -> 0 | U34: 300000 | W34: =V34-X34 -> 0 | Y34: =SUM(97465+52535) -> 150000 | Z34: =Y34-AA34 -> 52535 | AA34: 97465 | AC34: =AB34-AD34 -> 0 | AF34: =AE34-AG34 -> 0 | AI34: =AH34-AJ34 -> 0 | AL34: =AK34-AM34 -> 0 | AO34: =AN34-AP34 -> 0 | AR34: =AQ34-AS34 -> 0 | AU34: =AT34-AV34 -> 0 | AX34: =AW34-AY34 -> 0 | BA34: =AZ34-BB34 -> 0 | BD34: =SUM(H31:H40,K31:K40,N31:N40,Q31:Q40,T31:T40,W31:W40,Z31:Z40,AC31:AC40,Z31:Z40,AF31:AF40) -> 181900
F35: Utility Relocation | H35: =G35-I35 -> 0 | K35: =J35-L35 -> 0 | N35: =M35-O35 -> 0 | Q35: =P35-R35 -> 0 | T35: =S35-U35 -> 0 | W35: =V35-X35 -> 0 | Z35: =Y35-AA35 -> 0 | AC35: =AB35-AD35 -> 0 | AF35: =AE35-AG35 -> 0 | AI35: =AH35-AJ35 -> 0 | AL35: =AK35-AM35 -> 0 | AO35: =AN35-AP35 -> 0 | AR35: =AQ35-AS35 -> 0 | AU35: =AT35-AV35 -> 0 | AX35: =AW35-AY35 -> 0 | BA35: =AZ35-BB35 -> 0 | BD35: FED OBL
F36: Construction Engineering | AE36: 264937 | AF36: =AE36-AG36 -> 0 | AG36: 264937
F37: Construction | H37: =G37-I37 -> 0 | K37: =J37-L37 -> 0 | N37: =M37-O37 -> 0 | Q37: =P37-R37 -> 0 | T37: =S37-U37 -> 0 | W37: =V37-X37 -> 0 | Z37: =Y37-AA37 -> 0 | AC37: =AB37-AD37 -> 0 | AF37: =AE37-AG37 -> 0 | AI37: =AH37-AJ37 -> 0 | AL37: =AK37-AM37 -> 0 | AO37: =AN37-AP37 -> 0 | AR37: =AQ37-AS37 -> 0 | AU37: =AT37-AV37 -> 0 | AX37: =AW37-AY37 -> 0 | BA37: =AZ37-BB37 -> 0 | BD37: =SUM(I31:I40,L31:L40,O31:O40,R31:R40,U31:U40,X31:X40,AA31:AA40,AD31:AD40,AG31:AG40) -> 969719
F38: Program | H38: =G38-I38 -> 0 | K38: =J38-L38 -> 0 | N38: =M38-O38 -> 0 | Q38: =P38-R38 -> 0 | T38: =S38-U38 -> 0 | W38: =V38-X38 -> 0 | Z38: =Y38-AA38 -> 0 | AC38: =AB38-AD38 -> 0 | AF38: =AE38-AG38 -> 0 | AI38: =AH38-AJ38 -> 0 | AL38: =AK38-AM38 -> 0 | AO38: =AN38-AP38 -> 0 | AR38: =AQ38-AS38 -> 0 | AU38: =AT38-AV38 -> 0 | AX38: =AW38-AY38 -> 0 | BA38: =AZ38-BB38 -> 0 | BD38: % OBL
F39: Capital | H39: =G39-I39 -> 0 | K39: =J39-L39 -> 0 | N39: =M39-O39 -> 0 | Q39: =P39-R39 -> 0 | T39: =S39-U39 -> 0 | W39: =V39-X39 -> 0 | Z39: =Y39-AA39 -> 0 | AC39: =AB39-AD39 -> 0 | AF39: =AE39-AG39 -> 0 | AI39: =AH39-AJ39 -> 0 | AL39: =AK39-AM39 -> 0 | AO39: =AN39-AP39 -> 0 | AR39: =AQ39-AS39 -> 0 | AU39: =AT39-AV39 -> 0 | AX39: =AW39-AY39 -> 0 | BA39: =AZ39-BB39 -> 0 | BD39: =BD37/BD32 -> 0.88229744
F40: Operating | H40: =G40-I40 -> 0 | K40: =J40-L40 -> 0 | N40: =M40-O40 -> 0 | Q40: =P40-R40 -> 0 | T40: =S40-U40 -> 0 | W40: =V40-X40 -> 0 | Z40: =Y40-AA40 -> 0 | AC40: =AB40-AD40 -> 0 | AF40: =AE40-AG40 -> 0 | AI40: =AH40-AJ40 -> 0 | AL40: =AK40-AM40 -> 0 | AO40: =AN40-AP40 -> 0 | AR40: =AQ40-AS40 -> 0 | AU40: =AT40-AV40 -> 0 | AX40: =AW40-AY40 -> 0 | BA40: =AZ40-BB40 -> 0
A41: PROJECT | B41: KIPDA ID | C41: DES Number | D41: DESCRIPTION | E41: SPONSOR | F41: PHASE | G41: FEDERAL COST | H41: FEDERAL PGM | I41: FEDERAL OBL. | J41: FEDERAL COST | K41: FEDERAL PGM | L41: FEDERAL OBL. | M41: FEDERAL COST | N41: FEDERAL PGM | O41: FEDERAL OBL. | P41: FEDERAL COST | Q41: FEDERAL PGM | R41: FEDERAL OBL. | S41: FEDERAL COST | T41: FEDERAL PGM | U41: FEDERAL OBL. | V41: FEDERAL COST | W41: FEDERAL PGM | X41: FEDERAL OBL. | Y41: FEDERAL COST | Z41: FEDERAL PGM | AA41: FEDERAL OBL. | AB41: FEDERAL COST | AC41: FEDERAL PGM | AD41: FEDERAL OBL. | AE41: FEDERAL COST | AF41: FEDERAL PGM | AG41: FEDERAL OBL. | AH41: FEDERAL COST | AI41: FEDERAL PGM | AJ41: FEDERAL OBL. | AK41: FEDERAL COST | AL41: FEDERAL PGM | AM41: FEDERAL OBL. | AN41: FEDERAL COST | AO41: FEDERAL PGM | AP41: FEDERAL OBL. | AQ41: FEDERAL COST | AR41: FEDERAL PGM | AS41: FEDERAL OBL. | AT41: FEDERAL COST | AU41: FEDERAL PGM | AV41: FEDERAL OBL. | AW41: FEDERAL COST | AX41: FEDERAL PGM | AY41: FEDERAL OBL. | AZ41: FEDERAL COST | BA41: FEDERAL PGM | BB41: FEDERAL OBL. | BC41: FEDERAL COST | BD41: TOTALS
A43: CR 403 and Stacy Road Intersection Improvements | B43: 2549 | C43: 1802805 | D43: Intersection improvement including construction of a roundabout to improve safety at CR 403 and Stacy Road. Roundabout construction would include HMA pavement, curb and gutter and storm sewer for drainage, and intersection lighting. The footprint for the proposed roundabout would require approximately <1.0 acre of additional right of way, as well as relocating an existing Vectren utility pole and regulated gas line that runs along CR 403. | E43: Clark County | F43: Planning | H43: =G43-I43 -> 0 | K43: =J43-L43 -> 0 | N43: =M43-O43 -> 0 | Q43: =P43-R43 -> 0 | T43: =S43-U43 -> 0 | W43: =V43-X43 -> 0 | Z43: =Y43-AA43 -> 0 | AC43: =AB43-AD43 -> 0 | AF43: =AE43-AG43 -> 0 | AI43: =AH43-AJ43 -> 0 | AL43: =AK43-AM43 -> 0 | AO43: =AN43-AP43 -> 0 | AR43: =AQ43-AS43 -> 0 | AU43: =AT43-AV43 -> 0 | AX43: =AW43-AY43 -> 0 | BA43: =AZ43-BB43 -> 0 | BD43: FED COST
F44: Preliminary Eng. | H44: =G44-I44 -> 0 | K44: =J44-L44 -> 0 | N44: =M44-O44 -> 0 | P44: 283500 | Q44: =P44-R44 -> 0 | R44: 283500 | T44: =S44-U44 -> 0 | W44: =V44-X44 -> 0 | Z44: =Y44-AA44 -> 0 | AC44: =AB44-AD44 -> 0 | AF44: =AE44-AG44 -> 0 | AI44: =AH44-AJ44 -> 0 | AL44: =AK44-AM44 -> 0 | AO44: =AN44-AP44 -> 0 | AR44: =AQ44-AS44 -> 0 | AU44: =AT44-AV44 -> 0 | AX44: =AW44-AY44 -> 0 | BA44: =AZ44-BB44 -> 0 | BD44: =SUM(G43:G51,J43:J51,M43:M51,P43:P51,S43:S51,V43:V51,Y43:Y51,AB43:AB51,AE43:AE51) -> 2636984
F45: Design | H45: =G45-I45 -> 0 | K45: =J45-L45 -> 0 | N45: =M45-O45 -> 0 | Q45: =P45-R45 -> 0 | T45: =S45-U45 -> 0 | W45: =V45-X45 -> 0 | Z45: =Y45-AA45 -> 0 | AC45: =AB45-AD45 -> 0 | AF45: =AE45-AG45 -> 0 | AI45: =AH45-AJ45 -> 0 | AL45: =AK45-AM45 -> 0 | AO45: =AN45-AP45 -> 0 | AR45: =AQ45-AS45 -> 0 | AU45: =AT45-AV45 -> 0 | AX45: =AW45-AY45 -> 0 | BA45: =AZ45-BB45 -> 0 | BD45: FED PGM
...

Sheet IN Program Breakdown
A1: CMAQ
B2: FY 2021 | C2: FY 2022 | D2: FY 2023 | E2: FY 2024 | F2: FY 2025 | G2: FY 2026 | H2: FY 2027 | I2: FY 2028 | J2: FY 2029 | K2: FY 2030 | L2: FY 2031 | M2: FY 2032 | N2: 10-Year TOTAL
A3: Annual Allocation | B3: ='IN - All Programs'!U353 -> 1087358 | C3: ='IN - All Programs'!X353 -> 1329812 | D3: ='IN - All Programs'!AA353 -> 421141 | E3: ='IN - All Programs'!AD353 -> 690952 | F3: ='IN - All Programs'!AG353 -> 719815.38 | G3: ='IN - All Programs'!AJ353 -> 439600 | H3: ='IN - All Programs'!AM353 -> 1045290 | I3: ='IN - All Programs'!AP353 -> 1045290 | J3: ='IN - All Programs'!AS353 -> 1045290 | K3: ='IN - All Programs'!AV353 -> 1045290 | L3: ='IN - All Programs'!AY353 -> 1045290 | M3: ='IN - All Programs'!BB353 -> 1045290 | N3: =SUM(D3:M3) -> 8543248.4
A4: 50% of Allocation | B4: =SUM(B3/2) -> 543679 | C4: =SUM(C3/2) -> 664906 | D4: =SUM(D3/2) -> 210570.5 | E4: =SUM(E3/2) -> 345476 | F4: =SUM(F3/2) -> 359907.69 | G4: =SUM(G3/2) -> 219800 | H4: =SUM(H3/2) -> 522645 | I4: =SUM(I3/2) -> 522645 | ... M4: =SUM(M3/2) -> 522645 | N4: =SUM(D4:M4) -> 4271624.2
A5: Programmed Amount | B5: ='IN - All Programs'!S342 -> 500000 | C5: ='IN - All Programs'!V342 -> 200000 | D5: ='IN - All Programs'!Y342 -> 350000 | E5: ='IN - All Programs'!AB342 -> 200000 | F5: ='IN - All Programs'!AE342 -> 464937 | G5: ='IN - All Programs'!AH342 -> 393074 | H5: ='IN - All Programs'!AK342 -> 986301 | I5: ='IN - All Programs'!AN342 -> 700000 | J5: ='IN - All Programs'!AQ342 -> 700000 | K5: ='IN - All Programs'!AT342 -> 700000 | L5: 0 | M5: ='IN - All Programs'!AV342 -> 0 | N5: =SUM(D5:M5) -> 4494312
A7: CRP
B8: FY 2021 | C8: FY 2022 | D8: FY 2023 | E8: FY 2024 | F8: FY 2025 | G8: FY 2026 | H8: FY 2027 | I8: FY 2028 | J8: FY 2029 | K8: FY 2030 | L8: FY 2031 | M8: FY 2032 | N8: 10-Year TOTAL
A9: Annual Allocation | D9: ='IN - All Programs'!AA354 -> 841664 | E9: ='IN - All Programs'!AD354 -> 433499 | F9: ='IN - All Programs'!AG354 -> 447998.38 | G9: ='IN - All Programs'!AJ354 -> 404747 | H9: ='IN - All Programs'!AM354 -> 405239 | I9: ='IN - All Programs'!AP354 -> 405239 | J9: ='IN - All Programs'!AS354 -> 405239 | K9: ='IN - All Programs'!AV354 -> 405239 | L9: ='IN - All Programs'!AY354 -> 405239 | M9: ='IN - All Programs'!BB354 -> 405239 | N9: =SUM(D9:M9) -> 4559342.4
A10: 50% of Allocation | D10: =SUM(D9/2) -> 420832 | E10: =SUM(E9/2) -> 216749.5 | F10: =SUM(F9/2) -> 223999.19 | G10: =SUM(G9/2) -> 202373.5 | H10: =SUM(H9/2) -> 202619.5 | I10: =SUM(I9/2) -> 202619.5 | J10: =SUM(J9/2) -> 202619.5 | K10: =SUM(K9/2) -> 202619.5 | ... M10: =SUM(M9/2) -> 202619.5 | N10: =SUM(D10:M10) -> 2279671.2
A11: Programmed Amount | D11: ='IN - All Programs'!Y343 -> 0 | E11: ='IN - All Programs'!AB343 -> 0 | F11: ='IN - All Programs'!AE343 -> 0 | G11: ='IN - All Programs'!AH343 -> 0 | H11: ='IN - All Programs'!AK343 -> 0 | I11: ='IN - All Programs'!AN343 -> 0 | J11: ='IN - All Programs'!AQ343 -> 0 | K11: ='IN - All Programs'!AT343 -> 4080000 | L11: 0 | M11: ='IN - All Programs'!AV343 -> 0 | N11: =SUM(D11:M11) -> 4080000
A13: HSIP
B14: FY 2021 | C14: FY 2022 | D14: FY 2023 | E14: FY 2024 | F14: FY 2025 | G14: FY 2026 | H14: FY 2027 | I14: FY 2028 | J14: FY 2029 | K14: FY 2030 | L14: FY 2031 | M14: FY 2032 | N14: 10-Year TOTAL
A15: Annual Allocation | B15: ='IN - All Programs'!U355 -> 679689 | C15: ='IN - All Programs'!X355 -> 838526 | D15: ='IN - All Programs'!AA355 -> 425829 | E15: ='IN - All Programs'!AD355 -> 427308 | F15: ='IN - All Programs'!AG355 -> 412892.38 | G15: ='IN - All Programs'!AJ355 -> 430324 | H15: ='IN - All Programs'!AM355 -> 410673 | I15: ='IN - All Programs'!AP355 -> 410673 | J15: ='IN - All Programs'!AS355 -> 410673 | K15: ='IN - All Programs'!AV355 -> 410673 | L15: ='IN - All Programs'!AY355 -> 410673 | M15: ='IN - All Programs'!BB355 -> 410673 | N15: =SUM(D15:M15) -> 4160391.4
A16: 50% of Allocation | B16: =SUM(B15/2) -> 339844.5 | C16: =SUM(C15/2) -> 419263 | D16: =SUM(D15/2) -> 212914.5 | E16: =SUM(E15/2) -> 213654 | F16: =SUM(F15/2) -> 206446.19 | G16: =SUM(G15/2) -> 215162 | H16: =SUM(H15/2) -> 205336.5 | I16: =SUM(I15/2) -> 205336.5 | ... M16: =SUM(M15/2) -> 205336.5 | N16: =SUM(D16:M16) -> 2080195.7
A17: Programmed Amount | B17: ='IN - All Programs'!S344 -> 0 | C17: ='IN - All Programs'!V344 -> 71720 | D17: ='IN - All Programs'!Y344 -> 0 | E17: ='IN - All Programs'!AB344 -> 2281764 | F17: ='IN - All Programs'!AE344 -> 0 | G17: ='IN - All Programs'!AH344 -> 252000 | H17: ='IN - All Programs'!AK344 -> 0 | I17: ='IN - All Programs'!AN344 -> 0 | J17: ='IN - All Programs'!AQ344 -> 2188460 | K17: ='IN - All Programs'!AT344 -> 0 | L17: ='IN - All Programs'!AU344 -> 0 | M17: ='IN - All Programs'!AV344 -> 0 | N17: =SUM(D17:M17) -> 4722224
A19: PROTECT
B20: FY 2021 | C20: FY 2022 | D20: FY 2023 | E20: FY 2024 | F20: FY 2025 | G20: FY 2026 | H20: FY 2027 | I20: FY 2028 | J20: FY 2029 | K20: FY 2030 | L20: FY 2031 | M20: FY 2032 | N20: 10-Year TOTAL
A21: Annual Allocation | B21: ='IN - All Programs'!U371 -> 0 | C21: ='IN - All Programs'!X371 -> 0 | D21: ='IN - All Programs'!AA356 -> 157057 | E21: ='IN - All Programs'!AD356 -> 160198 | F21: ='IN - All Programs'!AG356 -> 162961.38 | G21: ='IN - All Programs'!AJ356 -> 60819 | H21: ='IN - All Programs'!AM356 -> 59134 | I21: ='IN - All Programs'!AP356 -> 59134 | J21: ='IN - All Programs'!AS356 -> 59134 | K21: ='IN - All Programs'!AV356 -> 59134 | L21: ='IN - All Programs'!AY356 -> 59134 | M21: ='IN - All Programs'!BB356 -> 59134 | N21: =SUM(D21:M21) -> 895839.38
A22: 50% of Allocation | B22: =SUM(B21/2) -> 0 | C22: =SUM(C21/2) -> 0 | D22: =SUM(D21/2) -> 78528.5 | E22: =SUM(E21/2) -> 80099 | F22: =SUM(F21/2) -> 81480.69 | G22: =SUM(G21/2) -> 30409.5 | H22: =SUM(H21/2) -> 29567 | I22: =SUM(I21/2) -> 29567 | ... M22: =SUM(M21/2) -> 29567 | N22: =SUM(D22:M22) -> 447919.69
A23: Programmed Amount | B23: ='IN - All Programs'!S359 -> 0 | C23: ='IN - All Programs'!V359 -> 0 | D23: ='IN - All Programs'!Y345 -> 0 | E23: ='IN - All Programs'!Z345 -> 0 | F23: ='IN - All Programs'!AE345 -> 0 | G23: ='IN - All Programs'!AB345 -> 0 | H23: ='IN - All Programs'!AK345 -> 0 | I23: ='IN - All Programs'!AN345 -> 0 | J23: ='IN - All Programs'!AQ345 -> 0 | K23: ='IN - All Programs'!AT345 -> 0 | L23: ='IN - All Programs'!AU345 -> 0 | M23: ='IN - All Programs'!AV345 -> 0 | N23: =SUM(D23:M23) -> 0
A25: STBG
B26: FY 2021 | C26: FY 2022 | D26: FY 2023 | E26: FY 2024 | F26: FY 2025 | G26: FY 2026 | H26: FY 2027 | I26: FY 2028 | J26: FY 2029 | K26: FY 2030 | L26: FY 2031 | M26: FY 2032 | N26: 10-Year TOTAL
A27: Annual Allocation | B27: ='IN - All Programs'!U357 -> 2694466 | C27: ='IN - All Programs'!X357 -> 3262252 | D27: ='IN - All Programs'!AA357 -> 4508781 | E27: ='IN - All Programs'!AD357 -> 3568291 | F27: ='IN - All Programs'!AG357 -> 3694172.4 | G27: ='IN - All Programs'!AJ357 -> 3736153 | H27: ='IN - All Programs'!AM357 -> 3348140 | I27: ='IN - All Programs'!AP357 -> 3348140 | J27: ='IN - All Programs'!AS357 -> 3348140 | K27: ='IN - All Programs'!AV357 -> 3348140 | L27: ='IN - All Programs'!AY357 -> 3348140 | M27: ='IN - All Programs'!BB357 -> 3348140 | N27: =SUM(D27:M27) -> 35596237
A28: 50% of Allocation | B28: =SUM(B27/2) -> 1347233 | C28: =SUM(C27/2) -> 1631126 | D28: =SUM(D27/2) -> 2254390.5 | E28: =SUM(E27/2) -> 1784145.5 | F28: =SUM(F27/2) -> 1847086.2 | G28: =SUM(G27/2) -> 1868076.5 | H28: =SUM(H27/2) -> 1674070 | I28: =SUM(I27/2) -> 1674070 | ... M28: =SUM(M27/2) -> 1674070 | N28: =SUM(D28:M28) -> 17798119
A29: Programmed Amount | B29: ='IN - All Programs'!S346 -> 3305869 | C29: ='IN - All Programs'!V346 -> 4310978 | D29: ='IN - All Programs'!Y346 -> 4269039 | E29: ='IN - All Programs'!AB346 -> 1327000 | F29: ='IN - All Programs'!AE346 -> 796815 | G29: ='IN - All Programs'!AH346 -> 6446593 | H29: ='IN - All Programs'!AK346 -> 4495800 | I29: ='IN - All Programs'!AN346 -> 3209220 | J29: ='IN - All Programs'!AQ346 -> 2255000 | K29: ='IN - All Programs'!AT346 -> 566200 | L29: 0 | M29: ='IN - All Programs'!AV346 -> 0 | N29: =SUM(D29:M29) -> 23365667
A31: TA
B32: FY 2021 | C32: FY 2022 | D32: FY 2023 | E32: FY 2024 | F32: FY 2025 | G32: FY 2026 | H32: FY 2027 | I32: FY 2028 | J32: FY 2029 | K32: FY 2030 | L32: FY 2031 | M32: FY 2032 | N32: 10-Year TOTAL
A33: Annual Allocation | B33: ='IN - All Programs'!U358 -> 234664 | C33: ='IN - All Programs'!X358 -> 319525 | D33: ='IN - All Programs'!AA358 -> 487093 | E33: ='IN - All Programs'!AD358 -> 496835 | F33: ='IN - All Programs'!AG358 -> 513587.38 | G33: ='IN - All Programs'!AJ358 -> 519652 | H33: ='IN - All Programs'!AM358 -> 466165 | I33: ='IN - All Programs'!AP358 -> 466165 | J33: ='IN - All Programs'!AS358 -> 466165 | K33: ='IN - All Programs'!AV358 -> 466165 | L33: ='IN - All Programs'!AY358 -> 466165 | M33: ='IN - All Programs'!BB358 -> 466165 | N33: =SUM(D33:M33) -> 4814157.4
A34: 50% of Allocation | B34: =SUM(B33/2) -> 117332 | C34: =SUM(C33/2) -> 159762.5 | D34: =SUM(D33/2) -> 243546.5 | E34: =SUM(E33/2) -> 248417.5 | F34: =SUM(F33/2) -> 256793.69 | G34: =SUM(G33/2) -> 259826 | H34: =SUM(H33/2) -> 233082.5 | I34: =SUM(I33/2) -> 233082.5 | ... M34: =SUM(M33/2) -> 233082.5 | N34: =SUM(D34:M34) -> 2407078.7
A35: Programmed Amount | B35: ='IN - All Programs'!S347 -> 451540 | C35: ='IN - All Programs'!V347 -> 352671 | D35: ='IN - All Programs'!Y347 -> 688981 | E35: ='IN - All Programs'!AB347 -> 0 | F35: ='IN - All Programs'!AE347 -> 158407 | G35: ='IN - All Programs'!AH347 -> 0 | H35: ='IN - All Programs'!AK347 -> 0 | I35: ='IN - All Programs'!AN347 -> 1033060 | J35: ='IN - All Programs'!AQ347 -> 0 | K35: ='IN - All Programs'!AT347 -> 400000 | L35: 0 | M35: ='IN - All Programs'!AV347 -> 0 | N35: =SUM(D35:M35) -> 2280448

Sheet KY - CRP
A1: Kentucky Carbon Reduction Program (CRP-MPO)
A2: Updated as of 11.6.26
A3: PROJECT INFORMATION | H3: FY 2024 | K3: FY 2025 | N3: FY 2026 | Q3: FY 2027 | T3: FY 2028 | W3: FY 2029 | Z3: FY 2030 | AC3: FY 2031 | AF3: FUTURE
A4: SPONSOR | B4: PROJECT | C4: KIPDA ID | D4: STATE ID | E4: DESCRIPTION | G4: PHASE | H4: FEDERAL COST | I4: FEDERAL PGM | J4: FEDERAL OBL. | K4: FEDERAL COST | L4: FEDERAL PGM | M4: FEDERAL OBL. | N4: FEDERAL COST | O4: FEDERAL PGM | P4: FEDERAL OBL. | Q4: FEDERAL COST | R4: FEDERAL PGM | S4: FEDERAL OBL. | T4: FEDERAL COST | U4: FEDERAL PGM | V4: FEDERAL OBL. | W4: FEDERAL COST | X4: FEDERAL PGM | Y4: FEDERAL OBL. | Z4: FEDERAL COST | AA4: FEDERAL PGM | AB4: FEDERAL OBL. | AC4: FEDERAL COST | AD4: FEDERAL PGM | AE4: FEDERAL OBL. | AF4: FEDERAL COST | AG4: PROJECT ESTIMATES | AH4: PMG LIMITS
A5: Louisville Metro | B5: Dodge Gap Jefferson Memorial Forest - Louisville Loop Shared Use Path | C5: 2087 | D5: 05-00523.00 | E5: Design and construct shared use path and Louisville Loop trailhead facilities through Jefferson Memorial Forest from Blevins Gap Road to north end of sand quarry tunnel at Gene Snyder FWY (the tunnel will be part of this segment) approximately 2.5 miles | G5: Planning | I5: =H5-J5 -> 0 | L5: =K5-M5 -> 0 | O5: =N5-P5 -> 0 | R5: =Q5-S5 -> 0 | U5: =T5-V5 -> 0 | X5: =W5-Y5 -> 0 | AA5: =Z5-AB5 -> 0 | AD5: =AC5-AE5 -> 0 | AG5: Total Pre-PE Cost Estimate | AH5: Cost Increases Awarded to Date
G6: Preliminary Eng. | I6: =H6-J6 -> 0 | L6: =K6-M6 -> 0 | O6: =N6-P6 -> 0 | R6: =Q6-S6 -> 0 | U6: =T6-V6 -> 0 | X6: =W6-Y6 -> 0 | AA6: =Z6-AB6 -> 0 | AD6: =AC6-AE6 -> 0
G7: Design | I7: =H7-J7 -> 0 | K7: 98354 | L7: =K7-M7 -> 0 | M7: 98354 | O7: =N7-P7 -> 0 | R7: =Q7-S7 -> 0 | U7: =T7-V7 -> 0 | X7: =W7-Y7 -> 0 | AA7: =Z7-AB7 -> 0 | AD7: =AC7-AE7 -> 0 | AG7: Total Post-PE Cost Estimate | AH7: Total Cost Increase Limit
G8: Right of Way | I8: =H8-J8 -> 0 | L8: =K8-M8 -> 0 | O8: =N8-P8 -> 0 | Q8: 111000 | R8: =Q8-S8 -> 111000 | U8: =T8-V8 -> 0 | X8: =W8-Y8 -> 0 | AA8: =Z8-AB8 -> 0 | AD8: =AC8-AE8 -> 0 | AH8: =(AG8*0.25)*0.8 -> 0
G9: Utility Relocation | I9: =H9-J9 -> 0 | L9: =K9-M9 -> 0 | O9: =N9-P9 -> 0 | R9: =Q9-S9 -> 0 | T9: 25000 | U9: =T9-V9 -> 25000 | X9: =W9-Y9 -> 0 | AA9: =Z9-AB9 -> 0 | AD9: =AC9-AE9 -> 0 | AF9: 36800 | AG9: Post-PE Letting Date Estimate | AH9: Letting Date Limit
G10: Construction | I10: =H10-J10 -> 0 | L10: =K10-M10 -> 0 | O10: =N10-P10 -> 0 | R10: =Q10-S10 -> 0 | U10: =T10-V10 -> 0 | X10: =W10-Y10 -> 0 | AA10: =Z10-AB10 -> 0 | AD10: =AC10-AE10 -> 0 | AF10: 10560000
A11: SPONSOR | B11: PROJECT | C11: KIPDA ID | D11: STATE ID | E11: DESCRIPTION | G11: PHASE | H11: FEDERAL COST | I11: FEDERAL PGM | J11: FEDERAL OBL. | K11: FEDERAL COST | L11: FEDERAL PGM | M11: FEDERAL OBL. | N11: FEDERAL COST | O11: FEDERAL PGM | P11: FEDERAL OBL. | Q11: FEDERAL COST | R11: FEDERAL PGM | S11: FEDERAL OBL. | T11: FEDERAL COST | U11: FEDERAL PGM | V11: FEDERAL OBL. | W11: FEDERAL COST | X11: FEDERAL PGM | Y11: FEDERAL OBL. | Z11: FEDERAL COST | AA11: FEDERAL PGM | AB11: FEDERAL OBL. | AC11: FEDERAL COST | AD11: FEDERAL PGM | AE11: FEDERAL OBL. | AF11: FEDERAL COST | AG11: PROJECT ESTIMATES | AH11: PMG LIMITS
A12: Louisville Metro | B12: Northeast Louisville Loop Section II (Eastwood Cut-off) | C12: 2116 | D12: 05-00525.00 | E12: Construct a shared use path along US 60 from Eastwood Cutoff to Eastwood Recreation Center. | G12: Planning | I12: =H12-J12 -> 0 | L12: =K12-M12 -> 0 | O12: =N12-P12 -> 0 | R12: =Q12-S12 -> 0 | U12: =T12-V12 -> 0 | X12: =W12-Y12 -> 0 | AA12: =Z12-AB12 -> 0 | AD12: =AC12-AE12 -> 0 | AG12: Total Pre-PE Cost Estimate | AH12: Cost Increases Awarded to Date
G13: Preliminary Eng. | I13: =H13-J13 -> 0 | L13: =K13-M13 -> 0 | O13: =N13-P13 -> 0 | R13: =Q13-S13 -> 0 | U13: =T13-V13 -> 0 | X13: =W13-Y13 -> 0 | AA13: =Z13-AB13 -> 0 | AD13: =AC13-AE13 -> 0
G14: Design | H14: 32000 | I14: =H14-J14 -> 0 | J14: 32000 | L14: =K14-M14 -> 0 | O14: =N14-P14 -> 0 | R14: =Q14-S14 -> 0 | U14: =T14-V14 -> 0 | X14: =W14-Y14 -> 0 | AA14: =Z14-AB14 -> 0 | AD14: =AC14-AE14 -> 0 | AG14: Total Post-PE Cost Estimate | AH14: Total Cost Increase Limit
G15: Right of Way | L15: =K15-M15 -> 0 | O15: =N15-P15 -> 0 | R15: =Q15-S15 -> 0 | U15: =T15-V15 -> 0 | X15: =W15-Y15 -> 0 | AA15: =Z15-AB15 -> 0 | AD15: =AC15-AE15 -> 0 | AH15: =(AG15*0.25)*0.8 -> 0
G16: Utility Relocation | L16: =K16-M16 -> 0 | O16: =N16-P16 -> 0 | R16: =Q16-S16 -> 0 | U16: =T16-V16 -> 0 | X16: =W16-Y16 -> 0 | AA16: =Z16-AB16 -> 0 | AD16: =AC16-AE16 -> 0 | AG16: Post-PE Letting Date Estimate | AH16: Letting Date Limit
G17: Construction | I17: =H17-J17 -> 0 | K17: 826000 | M17: 480000 | O17: =N17-P17 -> 0 | R17: =Q17-S17 -> 0 | U17: =T17-V17 -> 0 | X17: =W17-Y17 -> 0 | AA17: =Z17-AB17 -> 0 | AD17: =AC17-AE17 -> 0
A18: SPONSOR | B18: PROJECT | C18: KIPDA ID | D18: STATE ID | E18: DESCRIPTION | G18: PHASE | H18: FEDERAL COST | I18: FEDERAL PGM | J18: FEDERAL OBL. | K18: FEDERAL COST | L18: FEDERAL PGM | M18: FEDERAL OBL. | N18: FEDERAL COST | O18: FEDERAL PGM | P18: FEDERAL OBL. | Q18: FEDERAL COST | R18: FEDERAL PGM | S18: FEDERAL OBL. | T18: FEDERAL COST | U18: FEDERAL PGM | V18: FEDERAL OBL. | W18: FEDERAL COST | X18: FEDERAL PGM | Y18: FEDERAL OBL. | Z18: FEDERAL COST | AA18: FEDERAL PGM | AB18: FEDERAL OBL. | AC18: FEDERAL COST | AD18: FEDERAL PGM | AE18: FEDERAL OBL. | AF18: FEDERAL COST | AG18: PROJECT ESTIMATES | AH18: PMG LIMITS
A19: Louisville Metro | B19: Ohio River Levee Trail Phase III | C19: 1109 | D19: 05-00505.00 | E19: Construct bicycle/pedestrian facilities along Campground Road from the end of the shared use path at the railroad crossing on Campground Road near I-264 to Lees Lane and the connection to Riverside Gardens Park at 2899 Lees Lane. | G19: Planning | I19: =H19-J19 -> 0 | L19: =K19-M19 -> 0 | O19: =N19-P19 -> 0 | R19: =Q19-S19 -> 0 | U19: =T19-V19 -> 0 | X19: =W19-Y19 -> 0 | AA19: =Z19-AB19 -> 0 | AD19: =AC19-AE19 -> 0 | AG19: Total Pre-PE Cost Estimate | AH19: Cost Increases Awarded to Date
G20: Preliminary Eng. | I20: =H20-J20 -> 0 | L20: =K20-M20 -> 0 | O20: =N20-P20 -> 0 | R20: =Q20-S20 -> 0 | U20: =T20-V20 -> 0 | X20: =W20-Y20 -> 0 | AA20: =Z20-AB20 -> 0 | AD20: =AC20-AE20 -> 0
G21: Design | I21: =H21-J21 -> 0 | L21: =K21-M21 -> 0 | N21: 220000 | O21: =N21-P21 -> 0 | P21: 220000 | R21: =Q21-S21 -> 0 | U21: =T21-V21 -> 0 | X21: =W21-Y21 -> 0 | AA21: =Z21-AB21 -> 0 | AD21: =AC21-AE21 -> 0 | AG21: Total Post-PE Cost Estimate | AH21: Total Cost Increase Limit
G22: Right of Way | I22: =H22-J22 -> 0 | L22: =K22-M22 -> 0 | O22: =N22-P22 -> 0 | R22: =Q22-S22 -> 0 | U22: =T22-V22 -> 0 | X22: =W22-Y22 -> 0 | AA22: =Z22-AB22 -> 0 | AD22: =AC22-AE22 -> 0 | AH22: =(AG22*0.25)*0.8 -> 0
G23: Utility Relocation | I23: =H23-J23 -> 0 | L23: =K23-M23 -> 0 | O23: =N23-P23 -> 0 | R23: =Q23-S23 -> 0 | U23: =T23-V23 -> 0 | X23: =W23-Y23 -> 0 | AA23: =Z23-AB23 -> 0 | AD23: =AC23-AE23 -> 0 | AG23: Post-PE Letting Date Estimate | AH23: Letting Date Limit
G24: Construction | I24: =H24-J24 -> 0 | L24: =K24-M24 -> 0 | O24: =N24-P24 -> 0 | R24: =Q24-S24 -> 0 | T24: 6463000 | U24: =T24-V24 -> 6463000 | X24: =W24-Y24 -> 0 | AA24: =Z24-AB24 -> 0 | AD24: =AC24-AE24 -> 0
A25: SPONSOR | B25: PROJECT | C25: KIPDA ID | D25: STATE ID | E25: DESCRIPTION | G25: PHASE | H25: FEDERAL COST | I25: FEDERAL PGM | J25: FEDERAL OBL. | K25: FEDERAL COST | L25: FEDERAL PGM | M25: FEDERAL OBL. | N25: FEDERAL COST | O25: FEDERAL PGM | P25: FEDERAL OBL. | Q25: FEDERAL COST | R25: FEDERAL PGM | S25: FEDERAL OBL. | T25: FEDERAL COST | U25: FEDERAL PGM | V25: FEDERAL OBL. | W25: FEDERAL COST | X25: FEDERAL PGM | Y25: FEDERAL OBL. | Z25: FEDERAL COST | AA25: FEDERAL PGM | AB25: FEDERAL OBL. | AC25: FEDERAL COST | AD25: FEDERAL PGM | AE25: FEDERAL OBL. | AF25: FEDERAL COST | AG25: PROJECT ESTIMATES | AH25: PMG LIMITS
A26: Louisville Metro | B26: Ohio River Valley NE Bike/Ped Improvements Phase I (Louisville Loop) | C26: 2979 | D26: 05-3036.00 | E26: Design and construct an accessible shared-use path system, including amenities, that connects the Lewis & Clark Bridge to US 42 in Prospect. Design and construct an accessible shared-use path system connecting This corridor is approximately 2.5 miles of the 100+ mile Louisville Loop. | G26: Planning | I26: =H26-J26 -> 0 | L26: =K26-M26 -> 0 | O26: =N26-P26 -> 0 | R26: =Q26-S26 -> 0 | U26: =T26-V26 -> 0 | X26: =W26-Y26 -> 0 | AA26: =Z26-AB26 -> 0 | AD26: =AC26-AE26 -> 0 | AG26: Total Pre-PE Cost Estimate | AH26: Cost Increases Awarded to Date
G27: Preliminary Eng. | I27: =H27-J27 -> 0 | L27: =K27-M27 -> 0 | O27: =N27-P27 -> 0 | R27: =Q27-S27 -> 0 | U27: =T27-V27 -> 0 | X27: =W27-Y27 -> 0 | AA27: =Z27-AB27 -> 0 | AD27: =AC27-AE27 -> 0
G28: Design | I28: =H28-J28 -> 0 | L28: =K28-M28 -> 0 | O28: =N28-P28 -> 0 | R28: =Q28-S28 -> 0 | U28: =T28-V28 -> 0 | X28: =W28-Y28 -> 0 | AA28: =Z28-AB28 -> 0 | AD28: =AC28-AE28 -> 0 | AG28: Total Post-PE Cost Estimate | AH28: Total Cost Increase Limit
G29: Right of Way | I29: =H29-J29 -> 0 | L29: =K29-M29 -> 0 | O29: =N29-P29 -> 0 | R29: =Q29-S29 -> 0 | U29: =T29-V29 -> 0 | X29: =W29-Y29 -> 0 | AA29: =Z29-AB29 -> 0 | AD29: =AC29-AE29 -> 0 | AH29: =(AG29*0.25)*0.8 -> 0
G30: Utility Relocation | I30: =H30-J30 -> 0 | L30: =K30-M30 -> 0 | O30: =N30-P30 -> 0 | R30: =Q30-S30 -> 0 | U30: =T30-V30 -> 0 | X30: =W30-Y30 -> 0 | AA30: =Z30-AB30 -> 0 | AD30: =AC30-AE30 -> 0 | AG30: Post-PE Letting Date Estimate | AH30: Letting Date Limit
G31: Construction | I31: =H31-J31 -> 0 | L31: =K31-M31 -> 0 | O31: =N31-P31 -> 0 | R31: =Q31-S31 -> 0 | U31: =T31-V31 -> 0 | W31: 3760000 | X31: =W31-Y31 -> 3760000 | AA31: =Z31-AB31 -> 0 | AD31: =AC31-AE31 -> 0
A32: SPONSOR | B32: PROJECT | C32: KIPDA ID | D32: STATE ID | E32: DESCRIPTION | G32: PHASE | H32: FEDERAL COST | I32: FEDERAL PGM | J32: FEDERAL OBL. | K32: FEDERAL COST | L32: FEDERAL PGM | M32: FEDERAL OBL. | N32: FEDERAL COST | O32: FEDERAL PGM | P32: FEDERAL OBL. | Q32: FEDERAL COST | R32: FEDERAL PGM | S32: FEDERAL OBL. | T32: FEDERAL COST | U32: FEDERAL PGM | V32: FEDERAL OBL. | W32: FEDERAL COST | X32: FEDERAL PGM | Y32: FEDERAL OBL. | Z32: FEDERAL COST | AA32: FEDERAL PGM | AB32: FEDERAL OBL. | AC32: FEDERAL COST | AD32: FEDERAL PGM | AE32: FEDERAL OBL. | AF32: FEDERAL COST | AG32: PROJECT ESTIMATES | AH32: PMG LIMITS
A33: Louisville Metro | B33: Ohio River Valley NE Bike/Ped Improvements Phase II (Louisville Loop) | C33: 2980 | D33: 5-584.00 | E33: Design and construct an accessible shared-use path system, including amenities; and make improvements to portions of an existing shared-use path that connects the Big Four Bridge to Caperton Swamp. This corridor is approximately 3.5 miles of the 100+ mile Louisville Loop. | G33: Planning | I33: =H33-J33 -> 0 | L33: =K33-M33 -> 0 | O33: =N33-P33 -> 0 | R33: =Q33-S33 -> 0 | U33: =T33-V33 -> 0 | X33: =W33-Y33 -> 0 | AA33: =Z33-AB33 -> 0 | AD33: =AC33-AE33 -> 0 | AG33: Total Pre-PE Cost Estimate | AH33: Cost Increases Awarded to Date
G34: Preliminary Eng. | I34: =H34-J34 -> 0 | L34: =K34-M34 -> 0 | O34: =N34-P34 -> 0 | R34: =Q34-S34 -> 0 | U34: =T34-V34 -> 0 | X34: =W34-Y34 -> 0 | AA34: =Z34-AB34 -> 0 | AD34: =AC34-AE34 -> 0
G35: Design | I35: =H35-J35 -> 0 | K35: 320000 | L35: =K35-M35 -> 0 | M35: 320000 | O35: =N35-P35 -> 0 | R35: =Q35-S35 -> 0 | U35: =T35-V35 -> 0 | X35: =W35-Y35 -> 0 | AA35: =Z35-AB35 -> 0 | AD35: =AC35-AE35 -> 0 | AG35: Total Post-PE Cost Estimate | AH35: Total Cost Increase Limit
G36: Right of Way | I36: =H36-J36 -> 0 | L36: =K36-M36 -> 0 | O36: =N36-P36 -> 0 | Q36: 88000 | R36: =Q36-S36 -> 88000 | U36: =T36-V36 -> 0 | X36: =W36-Y36 -> 0 | AA36: =Z36-AB36 -> 0 | AD36: =AC36-AE36 -> 0 | AH36: =(AG36*0.25)*0.8 -> 0
G37: Utility Relocation | I37: =H37-J37 -> 0 | L37: =K37-M37 -> 0 | O37: =N37-P37 -> 0 | R37: =Q37-S37 -> 0 | T37: 28000 | U37: =T37-V37 -> 28000 | X37: =W37-Y37 -> 0 | AA37: =Z37-AB37 -> 0 | AD37: =AC37-AE37 -> 0 | AG37: Post-PE Letting Date Estimate | AH37: Letting Date Limit
G38: Construction | I38: =H38-J38 -> 0 | L38: =K38-M38 -> 0 | O38: =N38-P38 -> 0 | R38: =Q38-S38 -> 0 | T38: =1150000+1546000 -> 2696000 | U38: =T38-V38 -> 2696000 | X38: =W38-Y38 -> 0 | AA38: =Z38-AB38 -> 0 | AD38: =AC38-AE38 -> 0
A39: SPONSOR | B39: PROJECT | C39: KIPDA ID | D39: STATE ID | E39: DESCRIPTION | G39: PHASE | H39: FEDERAL COST | I39: FEDERAL PGM | J39: FEDERAL OBL. | K39: FEDERAL COST | L39: FEDERAL PGM | M39: FEDERAL OBL. | N39: FEDERAL COST | O39: FEDERAL PGM | P39: FEDERAL OBL. | Q39: FEDERAL COST | R39: FEDERAL PGM | S39: FEDERAL OBL. | T39: FEDERAL COST | U39: FEDERAL PGM | V39: FEDERAL OBL. | W39: FEDERAL COST | X39: FEDERAL PGM | Y39: FEDERAL OBL. | Z39: FEDERAL COST | AA39: FEDERAL PGM | AB39: FEDERAL OBL. | AC39: FEDERAL COST | AD39: FEDERAL PGM | AE39: FEDERAL OBL. | AF39: FEDERAL COST | AG39: PROJECT ESTIMATES | AH39: PMG LIMITS
A40: Louisville Metro | B40: Pond Creek Jefferson Memorial Forest - Louisville Loop Shared Use Path | C40: 2086 | D40: 05-00522.00 | E40: Design and construct shared use path and Louisville Loop trailhead facilities through Jefferson Memorial Forest from north end of sand quarry tunnel at Gene Snyder FWY to west terminus of the existing MSD trail approximately 2.7 miles which will include a bridge over Pond Creek. | G40: Planning | I40: =H40-J40 -> 0 | L40: =K40-M40 -> 0 | O40: =N40-P40 -> 0 | R40: =Q40-S40 -> 0 | U40: =T40-V40 -> 0 | X40: =W40-Y40 -> 0 | AA40: =Z40-AB40 -> 0 | AD40: =AC40-AE40 -> 0 | AG40: Total Pre-PE Cost Estimate | AH40: Cost Increases Awarded to Date
...

Sheet KY - STBG
A1: Kentucky Surface Transportation Block Grant (STBG-MPO) Program
A3: Updated as of 11.6.26
A4: PROJECT INFORMATION | G4: FY 2017 | J4: FY 2018 | M4: FY 2019 | P4: FY 2020 | S4: FY 2021 | V4: FY 2022 | Y4: FY 2023 | AB4: FY 2024 | AE4: FY 2025 | AH4: FY 2026 | AK4: FY 2027 | AN4: FY 2028 | AQ4: FY 2029 | AT4: FY 2030 | AW4: FY 2031 | AZ4: FUTURE FUNDING RESERVE
A5: SPONSOR | B5: PROJECT | C5: KIPDA ID | D5: STATE ID | E5: DESCRIPTION | F5: PHASE | G5: FEDERAL COST | H5: FEDERAL PGM | I5: FEDERAL OBL. | J5: FEDERAL COST | K5: FEDERAL PGM | L5: FEDERAL OBL. | M5: FEDERAL COST | N5: FEDERAL PGM | O5: FEDERAL OBL. | P5: FEDERAL COST | Q5: FEDERAL PGM | R5: FEDERAL OBL. | S5: FEDERAL COST | T5: FEDERAL PGM | U5: FEDERAL OBL. | V5: FEDERAL COST | W5: FEDERAL PGM | X5: FEDERAL OBL. | Y5: FEDERAL COST | Z5: FEDERAL PGM | AA5: FEDERAL OBL. | AB5: FEDERAL COST | AC5: FEDERAL PGM | AD5: FEDERAL OBL. | AE5: FEDERAL COST | AF5: FEDERAL PGM | AG5: FEDERAL OBL. | AH5: FEDERAL COST | AI5: FEDERAL PGM | AJ5: FEDERAL OBL. | AK5: FEDERAL COST | AL5: FEDERAL PGM | AM5: FEDERAL OBL. | AN5: FEDERAL COST | AO5: FEDERAL PGM | AP5: FEDERAL OBL. | AQ5: FEDERAL COST | AR5: FEDERAL PGM | AS5: FEDERAL OBL. | AT5: FEDERAL COST | AU5: FEDERAL PGM | AV5: FEDERAL OBL. | AW5: FEDERAL COST | AX5: FEDERAL PGM | AY5: FEDERAL OBL. | AZ5: FEDERAL COST | BA5: TOTALS
A6: Bullittt County | B6: KY 44 | C6: 2916 | D6: 05-00347.10 | E6: Widen KY 44 from 2 to 4 lanes from US 31 E to Kings Church Road and a 3 lane section from Kings Church Road to Spencer County line. | F6: Planning | H6: =G6-I6 -> 0 | K6: =J6-L6 -> 0 | N6: =M6-O6 -> 0 | Q6: =SUM(P6) -> 0 | T6: =S6-U6 -> 0 | W6: =V6-X6 -> 0 | Z6: =Y6-AA6 -> 0 | AC6: =AB6-AD6 -> 0 | AF6: =AE6-AG6 -> 0 | AI6: =AH6-AJ6 -> 0 | AL6: =AK6-AM6 -> 0 | AO6: =AN6-AP6 -> 0 | AR6: =AQ6-AS6 -> 0 | AU6: =AT6-AV6 -> 0 | AX6: =AW6-AY6 -> 0 | BA6: FED COST
F7: Preliminary Eng. | H7: =G7-I7 -> 0 | K7: =J7-L7 -> 0 | N7: =M7-O7 -> 0 | Q7: =SUM(P7) -> 0 | S7: 0 | T7: =S7-U7 -> 0 | W7: =V7-X7 -> 0 | Z7: =Y7-AA7 -> 0 | AC7: =AB7-AD7 -> 0 | AF7: =AE7-AG7 -> 0 | AI7: =AH7-AJ7 -> 0 | AL7: =AK7-AM7 -> 0 | AO7: =AN7-AP7 -> 0 | AR7: =AQ7-AS7 -> 0 | AU7: =AT7-AV7 -> 0 | AX7: =AW7-AY7 -> 0 | BA7: =SUM(G6:G12,J6:J12,M6:M12,P6:P12,S6:S12,V6:V12,Y6:Y12,AB6:AB12,AE6:AE12,AH6:AH12,AK6:AK12,AZ6:AZ12,AN6:AN12,AQ6:AQ12) -> 883606
F8: Design | H8: =G8-I8 -> 0 | K8: =J8-L8 -> 0 | N8: =M8-O8 -> 0 | Q8: =SUM(P8) -> 0 | S8: 465572 | T8: =S8-U8 -> 0 | U8: 465572 | W8: =V8-X8 -> 0 | Z8: =Y8-AA8 -> 0 | AC8: =AB8-AD8 -> 0 | AF8: =AE8-AG8 -> 0 | AI8: =AH8-AJ8 -> 0 | AL8: =AK8-AM8 -> 0 | AO8: =AN8-AP8 -> 0 | AR8: =AQ8-AS8 -> 0 | AU8: =AT8-AV8 -> 0 | AX8: =AW8-AY8 -> 0 | BA8: FED PGM
F9: Design (CRRSAA) | S9: 418034 | T9: =S9-U9 -> 0 | U9: 418034 | W9: 0
F10: Right of Way | H10: =G10-I10 -> 0 | K10: =J10-L10 -> 0 | N10: =M10-O10 -> 0 | Q10: =SUM(P10) -> 0 | T10: =S10-U10 -> 0 | W10: =V10-X10 -> 0 | Z10: =Y10-AA10 -> 0 | AC10: =AB10-AD10 -> 0 | AF10: =AE10-AG10 -> 0 | AI10: =AH10-AJ10 -> 0 | AL10: =AK10-AM10 -> 0 | AO10: =AN10-AP10 -> 0 | AR10: =AQ10-AS10 -> 0 | AU10: =AT10-AV10 -> 0 | AX10: =AW10-AY10 -> 0 | BA10: =SUM(H6:H12,K6:K12,N6:N12,Q6:Q12,T6:T12,W6:W12,Z6:Z12,AC6:AC12,AF6:AF12,AI6:AI12,AL6:AL12,AO6:AO12,AR6:AR12) -> 0
F11: Utility Relocation | H11: =G11-I11 -> 0 | K11: =J11-L11 -> 0 | N11: =M11-O11 -> 0 | Q11: =SUM(P11) -> 0 | T11: =S11-U11 -> 0 | W11: =V11-X11 -> 0 | Z11: =Y11-AA11 -> 0 | AC11: =AB11-AD11 -> 0 | AF11: =AE11-AG11 -> 0 | AI11: =AH11-AJ11 -> 0 | AL11: =AK11-AM11 -> 0 | AO11: =AN11-AP11 -> 0 | AR11: =AQ11-AS11 -> 0 | AU11: =AT11-AV11 -> 0 | AX11: =AW11-AY11 -> 0 | BA11: FED OBL
F12: Construction | H12: =G12-I12 -> 0 | K12: =J12-L12 -> 0 | N12: =M12-O12 -> 0 | Q12: =SUM(P12) -> 0 | T12: =S12-U12 -> 0 | W12: =V12-X12 -> 0 | Z12: =Y12-AA12 -> 0 | AC12: =AB12-AD12 -> 0 | AF12: =AE12-AG12 -> 0 | AI12: =AH12-AJ12 -> 0 | AL12: =AK12-AM12 -> 0 | AO12: =AN12-AP12 -> 0 | AR12: =AQ12-AS12 -> 0 | AU12: =AT12-AV12 -> 0 | AX12: =AW12-AY12 -> 0 | BA12: =SUM(I6:I12,L6:L12,O6:O12,R6:R12,U6:U12,X6:X12,AA6:AA12,AD6:AD12,AG6:AG12,AJ6:AJ12,AM6:AM12,AP6:AP12,AS6:AS12) -> 883606
A13: SPONSOR | B13: PROJECT | C13: KIPDA ID | D13: STATE ID | E13: DESCRIPTION | F13: PHASE | G13: FEDERAL COST | H13: FEDERAL PGM | I13: FEDERAL OBL. | J13: FEDERAL COST | K13: FEDERAL PGM | L13: FEDERAL OBL. | M13: FEDERAL COST | N13: FEDERAL PGM | O13: FEDERAL OBL. | P13: FEDERAL COST | Q13: FEDERAL PGM | R13: FEDERAL OBL. | S13: FEDERAL COST | T13: FEDERAL PGM | U13: FEDERAL OBL. | V13: FEDERAL COST | W13: FEDERAL PGM | X13: FEDERAL OBL. | Y13: FEDERAL COST | Z13: FEDERAL PGM | AA13: FEDERAL OBL. | AB13: FEDERAL COST | AC13: FEDERAL PGM | AD13: FEDERAL OBL. | AE13: FEDERAL COST | AF13: FEDERAL PGM | AG13: FEDERAL OBL. | AH13: FEDERAL COST | AI13: FEDERAL PGM | AJ13: FEDERAL OBL. | AK13: FEDERAL COST | AL13: FEDERAL PGM | AM13: FEDERAL OBL. | AN13: FEDERAL COST | AO13: FEDERAL PGM | AP13: FEDERAL OBL. | AQ13: FEDERAL COST | AR13: FEDERAL PGM | AS13: FEDERAL OBL. | AT13: FEDERAL COST | AU13: FEDERAL PGM | AV13: FEDERAL OBL. | AW13: FEDERAL COST | AX13: FEDERAL PGM | AY13: FEDERAL OBL. | AZ13: FEDERAL COST | BA13: TOTALS
A14: Jeffersontown | B14: Bluegrass Commerce Park Bicycle/Pedestrian Trail Phase II | C14: 2084 | D14: 05-00543.00 | E14: Construct a multi-use bicycle and pedestrian trail along Bluegrass Parkway from Watterson Trail to Tucker Station Road and along Tucker Station Road from Bluegrass Parkway to Plantside Drive. | F14: Planning | H14: =G14-I14 -> 0 | K14: =J14-L14 -> 0 | N14: =M14-O14 -> 0 | Q14: =P14-R14 -> 0 | T14: =S14-U14 -> 0 | W14: =V14-X14 -> 0 | Z14: =Y14-AA14 -> 0 | AC14: =AB14-AD14 -> 0 | AF14: =AE14-AG14 -> 0 | AI14: =AH14-AJ14 -> 0 | AL14: =AK14-AM14 -> 0 | AO14: =AN14-AP14 -> 0 | AR14: =AQ14-AS14 -> 0 | AU14: =AT14-AV14 -> 0 | AX14: =AW14-AY14 -> 0 | BA14: FED COST
F15: Preliminary Eng. | H15: =G15-I15 -> 0 | K15: =J15-L15 -> 0 | N15: =M15-O15 -> 0 | Q15: =P15-R15 -> 0 | T15: =S15-U15 -> 0 | W15: =V15-X15 -> 0 | Z15: =Y15-AA15 -> 0 | AC15: =AB15-AD15 -> 0 | AF15: =AE15-AG15 -> 0 | AI15: =AH15-AJ15 -> 0 | AL15: =AK15-AM15 -> 0 | AO15: =AN15-AP15 -> 0 | AR15: =AQ15-AS15 -> 0 | AU15: =AT15-AV15 -> 0 | AX15: =AW15-AY15 -> 0 | BA15: =SUM(G14:G19,J14:J19,M14:M19,P14:P19,S14:S19,V14:V19,Y14:Y19,AB14:AB19,AE14:AE19,AH14:AH19,AK14:AK19,AZ14:AZ19,AN14:AN19,AQ14:AQ19) -> 2130000
F16: Design | H16: =G16-I16 -> 0 | K16: =J16-L16 -> 0 | N16: =M16-O16 -> 0 | Q16: =P16-R16 -> 0 | T16: =S16-U16 -> 0 | W16: =V16-X16 -> 0 | Z16: =Y16-AA16 -> 0 | AC16: =AB16-AD16 -> 0 | AF16: =AE16-AG16 -> 0 | AI16: =AH16-AJ16 -> 0 | AL16: =AK16-AM16 -> 0 | AO16: =AN16-AP16 -> 0 | AR16: =AQ16-AS16 -> 0 | AU16: =AT16-AV16 -> 0 | AX16: =AW16-AY16 -> 0 | BA16: FED PGM
F17: Right of Way | H17: =G17-I17 -> 0 | K17: =J17-L17 -> 0 | N17: =M17-O17 -> 0 | Q17: =P17-R17 -> 0 | T17: =S17-U17 -> 0 | W17: =V17-X17 -> 0 | Z17: =Y17-AA17 -> 0 | AC17: =AB17-AD17 -> 0 | AF17: =AE17-AG17 -> 0 | AI17: =AH17-AJ17 -> 0 | AL17: =AK17-AM17 -> 0 | AO17: =AN17-AP17 -> 0 | AR17: =AQ17-AS17 -> 0 | AU17: =AT17-AV17 -> 0 | AX17: =AW17-AY17 -> 0 | BA17: =SUM(H14:H19,K14:K19,N14:N19,Q14:Q19,T14:T19,W14:W19,Z14:Z19,AC14:AC19,AF14:AF19,AI14:AI19,AL14:AL19,AO14:AO19,AR14:AR19) -> 0
F18: Utility Relocation | H18: =G18-I18 -> 0 | K18: =J18-L18 -> 0 | N18: =M18-O18 -> 0 | Q18: =P18-R18 -> 0 | T18: =S18-U18 -> 0 | W18: =V18-X18 -> 0 | Z18: =Y18-AA18 -> 0 | AC18: =AB18-AD18 -> 0 | AF18: =AE18-AG18 -> 0 | AI18: =AH18-AJ18 -> 0 | AL18: =AK18-AM18 -> 0 | AO18: =AN18-AP18 -> 0 | AR18: =AQ18-AS18 -> 0 | AU18: =AT18-AV18 -> 0 | AX18: =AW18-AY18 -> 0 | BA18: FED OBL
F19: Construction | H19: =G19-I19 -> 0 | K19: =J19-L19 -> 0 | N19: =M19-O19 -> 0 | Q19: =P19-R19 -> 0 | T19: =S19-U19 -> 0 | W19: =V19-X19 -> 0 | AC19: =AB19-AD19 -> 0 | AE19: 2130000 | AF19: =AE19-AG19 -> 0 | AG19: 2130000 | AI19: =AH19-AJ19 -> 0 | AL19: =AK19-AM19 -> 0 | AO19: =AN19-AP19 -> 0 | AR19: =AQ19-AS19 -> 0 | AU19: =AT19-AV19 -> 0 | AX19: =AW19-AY19 -> 0 | BA19: =SUM(I14:I19,L14:L19,O14:O19,R14:R19,U14:U19,X14:X19,AA14:AA19,AD14:AD19,AG14:AG19,AJ14:AJ19,AM14:AM19,AP14:AP19,AS14:AS19) -> 2130000
A20: SPONSOR | B20: PROJECT | C20: KIPDA ID | D20: STATE ID | E20: DESCRIPTION | F20: PHASE | G20: FEDERAL COST | H20: FEDERAL PGM | I20: FEDERAL OBL. | J20: FEDERAL COST | K20: FEDERAL PGM | L20: FEDERAL OBL. | M20: FEDERAL COST | N20: FEDERAL PGM | O20: FEDERAL OBL. | P20: FEDERAL COST | Q20: FEDERAL PGM | R20: FEDERAL OBL. | S20: FEDERAL COST | T20: FEDERAL PGM | U20: FEDERAL OBL. | V20: FEDERAL COST | W20: FEDERAL PGM | X20: FEDERAL OBL. | Y20: FEDERAL COST | Z20: FEDERAL PGM | AA20: FEDERAL OBL. | AB20: FEDERAL COST | AC20: FEDERAL PGM | AD20: FEDERAL OBL. | AE20: FEDERAL COST | AF20: FEDERAL PGM | AG20: FEDERAL OBL. | AH20: FEDERAL COST | AI20: FEDERAL PGM | AJ20: FEDERAL OBL. | AK20: FEDERAL COST | AL20: FEDERAL PGM | AM20: FEDERAL OBL. | AN20: FEDERAL COST | AO20: FEDERAL PGM | AP20: FEDERAL OBL. | AQ20: FEDERAL COST | AR20: FEDERAL PGM | AS20: FEDERAL OBL. | AT20: FEDERAL COST | AU20: FEDERAL PGM | AV20: FEDERAL OBL. | AW20: FEDERAL COST | AX20: FEDERAL PGM | AY20: FEDERAL OBL. | AZ20: FEDERAL COST | BA20: TOTALS
A21: Jeffersontown | B21: Good Samaritan Bicycle & Pedestrian Trail Connector | C21: 2082 | D21: 05-00486.00 | E21: Construct a multi-use bicycle and pedestrian trail along Old Taylorsville Road and Jefferson Street in downtown Jeffersontown connecting the downtown street network to the Good Samaritan Center and the existing bicycle/pedestrian trail at Grand Avenue and Watterson Trail. | F21: Planning | H21: =G21-I21 -> 0 | K21: =J21-L21 -> 0 | N21: =M21-O21 -> 0 | Q21: =P21-R21 -> 0 | T21: =S21-U21 -> 0 | W21: =V21-X21 -> 0 | Z21: =Y21-AA21 -> 0 | AC21: =AB21-AD21 -> 0 | AF21: =AE21-AG21 -> 0 | AI21: =AH21-AJ21 -> 0 | AL21: =AK21-AM21 -> 0 | AO21: =AN21-AP21 -> 0 | AR21: =AQ21-AS21 -> 0 | AU21: =AT21-AV21 -> 0 | AX21: =AW21-AY21 -> 0 | BA21: FED COST
F22: Preliminary Eng. | H22: =G22-I22 -> 0 | K22: =J22-L22 -> 0 | N22: =M22-O22 -> 0 | Q22: =P22-R22 -> 0 | T22: =S22-U22 -> 0 | W22: =V22-X22 -> 0 | Z22: =Y22-AA22 -> 0 | AC22: =AB22-AD22 -> 0 | AF22: =AE22-AG22 -> 0 | AI22: =AH22-AJ22 -> 0 | AL22: =AK22-AM22 -> 0 | AO22: =AN22-AP22 -> 0 | AR22: =AQ22-AS22 -> 0 | AU22: =AT22-AV22 -> 0 | AX22: =AW22-AY22 -> 0 | BA22: =SUM(G21:G26,J21:J26,M21:M26,P21:P26,S21:S26,V21:V26,Y21:Y26,AB21:AB26,AE21:AE26,AH21:AH26,AK21:AK26,AZ21:AZ26,AN21:AN26,AQ21:AQ26) -> 1460000
F23: Design | H23: =G23-I23 -> 0 | K23: =J23-L23 -> 0 | N23: =M23-O23 -> 0 | Q23: =P23-R23 -> 0 | T23: =S23-U23 -> 0 | W23: =V23-X23 -> 0 | Z23: =Y23-AA23 -> 0 | AC23: =AB23-AD23 -> 0 | AF23: =AE23-AG23 -> 0 | AI23: =AH23-AJ23 -> 0 | AL23: =AK23-AM23 -> 0 | AO23: =AN23-AP23 -> 0 | AR23: =AQ23-AS23 -> 0 | AU23: =AT23-AV23 -> 0 | AX23: =AW23-AY23 -> 0 | BA23: FED PGM
F24: Right of Way | H24: =G24-I24 -> 0 | K24: =J24-L24 -> 0 | N24: =M24-O24 -> 0 | Q24: =P24-R24 -> 0 | T24: =S24-U24 -> 0 | W24: =V24-X24 -> 0 | Z24: =Y24-AA24 -> 0 | AC24: =AB24-AD24 -> 0 | AF24: =AE24-AG24 -> 0 | AI24: =AH24-AJ24 -> 0 | AL24: =AK24-AM24 -> 0 | AO24: =AN24-AP24 -> 0 | AR24: =AQ24-AS24 -> 0 | AU24: =AT24-AV24 -> 0 | AX24: =AW24-AY24 -> 0 | BA24: =SUM(H21:H26,K21:K26,N21:N26,Q21:Q26,T21:T26,W21:W26,Z21:Z26,AC21:AC26,AF21:AF26,AI21:AI26,AL21:AL26,AO21:AO26,AR21:AR26) -> 1460000
F25: Utility Relocation | H25: =G25-I25 -> 0 | K25: =J25-L25 -> 0 | N25: =M25-O25 -> 0 | Q25: =P25-R25 -> 0 | T25: =S25-U25 -> 0 | W25: =V25-X25 -> 0 | Z25: =Y25-AA25 -> 0 | AC25: =AB25-AD25 -> 0 | AF25: =AE25-AG25 -> 0 | AI25: =AH25-AJ25 -> 0 | AL25: =AK25-AM25 -> 0 | AO25: =AN25-AP25 -> 0 | AR25: =AQ25-AS25 -> 0 | AU25: =AT25-AV25 -> 0 | AX25: =AW25-AY25 -> 0 | BA25: FED OBL
F26: Construction | H26: =G26-I26 -> 0 | K26: =J26-L26 -> 0 | N26: =M26-O26 -> 0 | Q26: =P26-R26 -> 0 | T26: =S26-U26 -> 0 | W26: =V26-X26 -> 0 | AC26: =AB26-AD26 -> 0 | AF26: =AE26-AG26 -> 0 | AI26: =AH26-AJ26 -> 0 | AL26: =AK26-AM26 -> 0 | AN26: 1460000 | AO26: =AN26-AP26 -> 1460000 | AR26: =AQ26-AS26 -> 0 | AU26: =AT26-AV26 -> 0 | AX26: =AW26-AY26 -> 0 | BA26: =SUM(I21:I26,L21:L26,O21:O26,R21:R26,U21:U26,X21:X26,AA21:AA26,AD21:AD26,AG21:AG26,AJ21:AJ26,AM21:AM26,AP21:AP26,AS21:AS26) -> 0
A27: SPONSOR | B27: PROJECT | C27: KIPDA ID | D27: STATE ID | E27: DESCRIPTION | F27: PHASE | G27: FEDERAL COST | H27: FEDERAL PGM | I27: FEDERAL OBL. | J27: FEDERAL COST | K27: FEDERAL PGM | L27: FEDERAL OBL. | M27: FEDERAL COST | N27: FEDERAL PGM | O27: FEDERAL OBL. | P27: FEDERAL COST | Q27: FEDERAL PGM | R27: FEDERAL OBL. | S27: FEDERAL COST | T27: FEDERAL PGM | U27: FEDERAL OBL. | V27: FEDERAL COST | W27: FEDERAL PGM | X27: FEDERAL OBL. | Y27: FEDERAL COST | Z27: FEDERAL PGM | AA27: FEDERAL OBL. | AB27: FEDERAL COST | AC27: FEDERAL PGM | AD27: FEDERAL OBL. | AE27: FEDERAL COST | AF27: FEDERAL PGM | AG27: FEDERAL OBL. | AH27: FEDERAL COST | AI27: FEDERAL PGM | AJ27: FEDERAL OBL. | AK27: FEDERAL COST | AL27: FEDERAL PGM | AM27: FEDERAL OBL. | AN27: FEDERAL COST | AO27: FEDERAL PGM | AP27: FEDERAL OBL. | AQ27: FEDERAL COST | AR27: FEDERAL PGM | AS27: FEDERAL OBL. | AT27: FEDERAL COST | AU27: FEDERAL PGM | AV27: FEDERAL OBL. | AW27: FEDERAL COST | AX27: FEDERAL PGM | AY27: FEDERAL OBL. | AZ27: FEDERAL COST | BA27: TOTALS
A28: Jeffersontown | B28: Ruckriegel Parkway Sidewalk Improvement | C28: 2619 | D28: 05-198.00 | E28: Construct the missing gaps of sidewalk and ADA ramps along Ruckriegel Parkway between Taylorsville Road and Billtown Road. | F28: Planning | H28: =G28-I28 -> 0 | K28: =J28-L28 -> 0 | N28: =M28-O28 -> 0 | Q28: =P28-R28 -> 0 | T28: =S28-U28 -> 0 | W28: =V28-X28 -> 0 | Z28: =Y28-AA28 -> 0 | AC28: =AB28-AD28 -> 0 | AF28: =AE28-AG28 -> 0 | AI28: =AH28-AJ28 -> 0 | AL28: =AK28-AM28 -> 0 | AO28: =AN28-AP28 -> 0 | AR28: =AQ28-AS28 -> 0 | AU28: =AT28-AV28 -> 0 | AX28: =AW28-AY28 -> 0 | BA28: FED COST
F29: Preliminary Eng. | H29: =G29-I29 -> 0 | K29: =J29-L29 -> 0 | N29: =M29-O29 -> 0 | Q29: =P29-R29 -> 0 | T29: =S29-U29 -> 0 | W29: =V29-X29 -> 0 | Z29: =Y29-AA29 -> 0 | AC29: =AB29-AD29 -> 0 | AF29: =AE29-AG29 -> 0 | AI29: =AH29-AJ29 -> 0 | AL29: =AK29-AM29 -> 0 | AO29: =AN29-AP29 -> 0 | AR29: =AQ29-AS29 -> 0 | AU29: =AT29-AV29 -> 0 | AX29: =AW29-AY29 -> 0 | BA29: =SUM(G28:G33,J28:J33,M28:M33,P28:P33,S28:S33,V28:V33,Y28:Y33,AB28:AB33,AE28:AE33,AH28:AH33,AK28:AK33,AZ28:AZ33,AN28:AN33,AQ28:AQ33) -> 529008
F30: Design | H30: =G30-I30 -> 0 | K30: =J30-L30 -> 0 | N30: =M30-O30 -> 0 | Q30: =P30-R30 -> 0 | T30: =S30-U30 -> 0 | W30: =V30-X30 -> 0 | Z30: =Y30-AA30 -> 0 | AC30: =AB30-AD30 -> 0 | AF30: =AE30-AG30 -> 0 | AI30: =AH30-AJ30 -> 0 | AL30: =AK30-AM30 -> 0 | AO30: =AN30-AP30 -> 0 | AR30: =AQ30-AS30 -> 0 | AU30: =AT30-AV30 -> 0 | AX30: =AW30-AY30 -> 0 | BA30: FED PGM
F31: Right of Way | H31: =G31-I31 -> 0 | K31: =J31-L31 -> 0 | N31: =M31-O31 -> 0 | Q31: =P31-R31 -> 0 | T31: =S31-U31 -> 0 | W31: =V31-X31 -> 0 | Z31: =Y31-AA31 -> 0 | AC31: =AB31-AD31 -> 0 | AF31: =AE31-AG31 -> 0 | AI31: =AH31-AJ31 -> 0 | AL31: =AK31-AM31 -> 0 | AO31: =AN31-AP31 -> 0 | AR31: =AQ31-AS31 -> 0 | AU31: =AT31-AV31 -> 0 | AX31: =AW31-AY31 -> 0 | BA31: =SUM(H28:H33,K28:K33,N28:N33,Q28:Q33,T28:T33,W28:W33,Z28:Z33,AC28:AC33,AF28:AF33,AI28:AI33,AL28:AL33,AO28:AO33,AR28:AR33) -> 529008
F32: Utility Relocation | H32: =G32-I32 -> 0 | K32: =J32-L32 -> 0 | N32: =M32-O32 -> 0 | Q32: =P32-R32 -> 0 | T32: =S32-U32 -> 0 | W32: =V32-X32 -> 0 | Z32: =Y32-AA32 -> 0 | AC32: =AB32-AD32 -> 0 | AF32: =AE32-AG32 -> 0 | AI32: =AH32-AJ32 -> 0 | AL32: =AK32-AM32 -> 0 | AO32: =AN32-AP32 -> 0 | AR32: =AQ32-AS32 -> 0 | AU32: =AT32-AV32 -> 0 | AX32: =AW32-AY32 -> 0 | BA32: FED OBL
F33: Construction | H33: =G33-I33 -> 0 | K33: =J33-L33 -> 0 | N33: =M33-O33 -> 0 | Q33: =P33-R33 -> 0 | T33: =S33-U33 -> 0 | W33: =V33-X33 -> 0 | AC33: =AB33-AD33 -> 0 | AF33: =AE33-AG33 -> 0 | AI33: =AH33-AJ33 -> 0 | AK33: 529008 | AL33: =AK33-AM33 -> 529008 | AO33: =AN33-AP33 -> 0 | AR33: =AQ33-AS33 -> 0 | AU33: =AT33-AV33 -> 0 | AX33: =AW33-AY33 -> 0 | BA33: =SUM(I28:I33,L28:L33,O28:O33,R28:R33,U28:U33,X28:X33,AA28:AA33,AD28:AD33,AG28:AG33,AJ28:AJ33,AM28:AM33) -> 0
A34: SPONSOR | B34: PROJECT | C34: KIPDA ID | D34: STATE ID | E34: DESCRIPTION | F34: PHASE | G34: FEDERAL COST | H34: FEDERAL PGM | I34: FEDERAL OBL. | J34: FEDERAL COST | K34: FEDERAL PGM | L34: FEDERAL OBL. | M34: FEDERAL COST | N34: FEDERAL PGM | O34: FEDERAL OBL. | P34: FEDERAL COST | Q34: FEDERAL PGM | R34: FEDERAL OBL. | S34: FEDERAL COST | T34: FEDERAL PGM | U34: FEDERAL OBL. | V34: FEDERAL COST | W34: FEDERAL PGM | X34: FEDERAL OBL. | Y34: FEDERAL COST | Z34: FEDERAL PGM | AA34: FEDERAL OBL. | AB34: FEDERAL COST | AC34: FEDERAL PGM | AD34: FEDERAL OBL. | AE34: FEDERAL COST | AF34: FEDERAL PGM | AG34: FEDERAL OBL. | AH34: FEDERAL COST | AI34: FEDERAL PGM | AJ34: FEDERAL OBL. | AK34: FEDERAL COST | AL34: FEDERAL PGM | AM34: FEDERAL OBL. | AN34: FEDERAL COST | AO34: FEDERAL PGM | AP34: FEDERAL OBL. | AQ34: FEDERAL COST | AR34: FEDERAL PGM | AS34: FEDERAL OBL. | AT34: FEDERAL COST | AU34: FEDERAL PGM | AV34: FEDERAL OBL. | AW34: FEDERAL COST | AX34: FEDERAL PGM | AY34: FEDERAL OBL. | AZ34: FEDERAL COST | BA34: TOTALS
